BEGIN:VCALENDAR
VERSION:2.0
PRODID:-//La plateforme nationale du doctorat – Webinaires d'information
  sur les CIFRE//Sites Conformes//FR
BEGIN:VEVENT
SUMMARY:Webinaires d'information sur les CIFRE
DTSTART:20260421T073500Z
DTEND:20300421T073500Z
DTSTAMP:20260421T120001Z
UID:430
LOCATION:None
END:VEVENT
END:VCALENDAR
